BEGIN:VCALENDAR
VERSION:2.0
PRODID:-//Westside Youth Orchestra - ECPv6.15.20//NONSGML v1.0//EN
CALSCALE:GREGORIAN
METHOD:PUBLISH
X-ORIGINAL-URL:https://westsideyouthorchestra.org
X-WR-CALDESC:Events for Westside Youth Orchestra
REFRESH-INTERVAL;VALUE=DURATION:PT1H
X-Robots-Tag:noindex
X-PUBLISHED-TTL:PT1H
BEGIN:VTIMEZONE
TZID:UTC
BEGIN:STANDARD
TZOFFSETFROM:+0000
TZOFFSETTO:+0000
TZNAME:UTC
DTSTART:20210101T000000
END:STANDARD
END:VTIMEZONE
BEGIN:VEVENT
DTSTART;TZID=UTC:20221214T193000
DTEND;TZID=UTC:20221214T210000
DTSTAMP:20260425T164121
CREATED:20221211T215148Z
LAST-MODIFIED:20221211T220027Z
UID:58248-1671046200-1671051600@westsideyouthorchestra.org
SUMMARY:WYO Holiday Concert\, Veterans Memorial 'Garden Room'
DESCRIPTION:
URL:https://westsideyouthorchestra.org/concerts/58248/
LOCATION:Veterans Memorial ‘Garden Room’\, 4117 Overland Avenue\, Culver City\, CA\, 90230
END:VEVENT
END:VCALENDAR