BEGIN:VCALENDAR
VERSION:2.0
PRODID:-//Westside Youth Orchestra - ECPv6.15.20//NONSGML v1.0//EN
CALSCALE:GREGORIAN
METHOD:PUBLISH
X-ORIGINAL-URL:https://westsideyouthorchestra.org
X-WR-CALDESC:Events for Westside Youth Orchestra
REFRESH-INTERVAL;VALUE=DURATION:PT1H
X-Robots-Tag:noindex
X-PUBLISHED-TTL:PT1H
BEGIN:VTIMEZONE
TZID:UTC
BEGIN:STANDARD
TZOFFSETFROM:+0000
TZOFFSETTO:+0000
TZNAME:UTC
DTSTART:20220101T000000
END:STANDARD
END:VTIMEZONE
BEGIN:VEVENT
DTSTART;VALUE=DATE:20230116
DTEND;VALUE=DATE:20230117
DTSTAMP:20260425T152159
CREATED:20221227T005742Z
LAST-MODIFIED:20221227T010018Z
UID:58375-1673827200-1673913599@westsideyouthorchestra.org
SUMMARY:Registration Deadline Spring 2023
DESCRIPTION:WYO & WYO Junior
URL:https://westsideyouthorchestra.org/concerts/deadline-for-registration-spring-2023/
END:VEVENT
BEGIN:VEVENT
DTSTART;VALUE=DATE:20230118
DTEND;VALUE=DATE:20230119
DTSTAMP:20260425T152159
CREATED:20221227T005559Z
LAST-MODIFIED:20221227T005922Z
UID:58372-1674000000-1674086399@westsideyouthorchestra.org
SUMMARY:Spring 2023 Semester Begins
DESCRIPTION:WYO & WYO Junior
URL:https://westsideyouthorchestra.org/concerts/spring-semester-begins/
END:VEVENT
END:VCALENDAR