BEGIN:VCALENDAR
VERSION:2.0
PRODID:-//Westside Youth Orchestra - ECPv6.15.20//NONSGML v1.0//EN
CALSCALE:GREGORIAN
METHOD:PUBLISH
X-ORIGINAL-URL:https://westsideyouthorchestra.org
X-WR-CALDESC:Events for Westside Youth Orchestra
REFRESH-INTERVAL;VALUE=DURATION:PT1H
X-Robots-Tag:noindex
X-PUBLISHED-TTL:PT1H
BEGIN:VTIMEZONE
TZID:UTC
BEGIN:STANDARD
TZOFFSETFROM:+0000
TZOFFSETTO:+0000
TZNAME:UTC
DTSTART:20230101T000000
END:STANDARD
END:VTIMEZONE
BEGIN:VEVENT
DTSTART;VALUE=DATE:20240108
DTEND;VALUE=DATE:20240123
DTSTAMP:20260424T232255
CREATED:20231229T062213Z
LAST-MODIFIED:20231229T063210Z
UID:60241-1704672000-1705967999@westsideyouthorchestra.org
SUMMARY:WYO Auditions on Zoom
DESCRIPTION:Complete and submit your audition application.
URL:https://westsideyouthorchestra.org/concerts/wyo-auditions-on-zoom/
END:VEVENT
BEGIN:VEVENT
DTSTART;VALUE=DATE:20240122
DTEND;VALUE=DATE:20240123
DTSTAMP:20260424T232255
CREATED:20231229T062318Z
LAST-MODIFIED:20231229T062318Z
UID:60243-1705881600-1705967999@westsideyouthorchestra.org
SUMMARY:Registration and Tuition Due
DESCRIPTION:
URL:https://westsideyouthorchestra.org/concerts/registration-and-tuition-due/
END:VEVENT
BEGIN:VEVENT
DTSTART;VALUE=DATE:20240124
DTEND;VALUE=DATE:20240125
DTSTAMP:20260424T232255
CREATED:20231229T062048Z
LAST-MODIFIED:20231229T062048Z
UID:60239-1706054400-1706140799@westsideyouthorchestra.org
SUMMARY:Spring Semester Begins
DESCRIPTION:
URL:https://westsideyouthorchestra.org/concerts/spring-semester-begins-2/
END:VEVENT
END:VCALENDAR