BEGIN:VCALENDAR
VERSION:2.0
PRODID:-//Westside Youth Orchestra - ECPv6.15.20//NONSGML v1.0//EN
CALSCALE:GREGORIAN
METHOD:PUBLISH
X-WR-CALNAME:Westside Youth Orchestra
X-ORIGINAL-URL:https://westsideyouthorchestra.org
X-WR-CALDESC:Events for Westside Youth Orchestra
REFRESH-INTERVAL;VALUE=DURATION:PT1H
X-Robots-Tag:noindex
X-PUBLISHED-TTL:PT1H
BEGIN:VTIMEZONE
TZID:UTC
BEGIN:STANDARD
TZOFFSETFROM:+0000
TZOFFSETTO:+0000
TZNAME:UTC
DTSTART:20230101T000000
END:STANDARD
END:VTIMEZONE
BEGIN:VEVENT
DTSTART;TZID=UTC:20240519T180000
DTEND;TZID=UTC:20240519T200000
DTSTAMP:20260424T190150
CREATED:20240417T032711Z
LAST-MODIFIED:20240516T035201Z
UID:60465-1716141600-1716148800@westsideyouthorchestra.org
SUMMARY:Spring Concert
DESCRIPTION:https://www.eventbrite.com/e/wyo-presents-spring-concert-tickets 862619547287 aff=oddtdtcreator
URL:https://westsideyouthorchestra.org/concerts/spring-concert-2/
LOCATION:Veterans Memorial Auditorium\, 4117 Overland Avenue\, Culver City\, CA\, 90230
END:VEVENT
END:VCALENDAR