BEGIN:VCALENDAR
VERSION:2.0
PRODID:-//Westside Youth Orchestra - ECPv6.15.20//NONSGML v1.0//EN
CALSCALE:GREGORIAN
METHOD:PUBLISH
X-ORIGINAL-URL:https://westsideyouthorchestra.org
X-WR-CALDESC:Events for Westside Youth Orchestra
REFRESH-INTERVAL;VALUE=DURATION:PT1H
X-Robots-Tag:noindex
X-PUBLISHED-TTL:PT1H
BEGIN:VTIMEZONE
TZID:UTC
BEGIN:STANDARD
TZOFFSETFROM:+0000
TZOFFSETTO:+0000
TZNAME:UTC
DTSTART:20230101T000000
END:STANDARD
END:VTIMEZONE
BEGIN:VEVENT
DTSTART;VALUE=DATE:20240731
DTEND;VALUE=DATE:20240820
DTSTAMP:20260424T154919
CREATED:20240531T012852Z
LAST-MODIFIED:20240531T013023Z
UID:60582-1722384000-1724111999@westsideyouthorchestra.org
SUMMARY:WYO Auditions Fall 2024 on Zoom
DESCRIPTION:
URL:https://westsideyouthorchestra.org/concerts/wyo-auditions-fall-2024/
END:VEVENT
BEGIN:VEVENT
DTSTART;VALUE=DATE:20240814
DTEND;VALUE=DATE:20240815
DTSTAMP:20260424T154919
CREATED:20240531T013345Z
LAST-MODIFIED:20240531T013345Z
UID:60587-1723593600-1723679999@westsideyouthorchestra.org
SUMMARY:Registration and Tuition Due Continuing Students Fall 2024
DESCRIPTION:
URL:https://westsideyouthorchestra.org/concerts/registration-and-tuition-due-continuing-students-fall-2024/
END:VEVENT
BEGIN:VEVENT
DTSTART;VALUE=DATE:20240820
DTEND;VALUE=DATE:20240821
DTSTAMP:20260424T154919
CREATED:20240531T013430Z
LAST-MODIFIED:20240531T013430Z
UID:60589-1724112000-1724198399@westsideyouthorchestra.org
SUMMARY:Registration and Tuition Due New Students Fall 2024
DESCRIPTION:
URL:https://westsideyouthorchestra.org/concerts/registration-and-tuition-due-new-students-fall-2024/
END:VEVENT
BEGIN:VEVENT
DTSTART;VALUE=DATE:20240821
DTEND;VALUE=DATE:20240822
DTSTAMP:20260424T154919
CREATED:20240531T013130Z
LAST-MODIFIED:20240531T013130Z
UID:60585-1724198400-1724284799@westsideyouthorchestra.org
SUMMARY:Fall 2024 Semester Begins
DESCRIPTION:
URL:https://westsideyouthorchestra.org/concerts/fall-2024-semester-begins/
END:VEVENT
END:VCALENDAR