BEGIN:VCALENDAR
VERSION:2.0
PRODID:-//Westside Youth Orchestra - ECPv6.15.20//NONSGML v1.0//EN
CALSCALE:GREGORIAN
METHOD:PUBLISH
X-WR-CALNAME:Westside Youth Orchestra
X-ORIGINAL-URL:https://westsideyouthorchestra.org
X-WR-CALDESC:Events for Westside Youth Orchestra
REFRESH-INTERVAL;VALUE=DURATION:PT1H
X-Robots-Tag:noindex
X-PUBLISHED-TTL:PT1H
BEGIN:VTIMEZONE
TZID:UTC
BEGIN:STANDARD
TZOFFSETFROM:+0000
TZOFFSETTO:+0000
TZNAME:UTC
DTSTART:20230101T000000
END:STANDARD
END:VTIMEZONE
BEGIN:VEVENT
DTSTART;TZID=UTC:20241215T180000
DTEND;TZID=UTC:20241215T180000
DTSTAMP:20260424T101221
CREATED:20240824T000054Z
LAST-MODIFIED:20241104T040326Z
UID:60792-1734285600-1734285600@westsideyouthorchestra.org
SUMMARY:WYO Winter Concert
DESCRIPTION:Veterans Memorial Auditorium\n4117 Overland Ave.\nCulver City 90230\n\nMusic of Faure\, Vivaldi\, Holst\, Dvorak.
URL:https://westsideyouthorchestra.org/concerts/wyo-winter-concert/
LOCATION:Veterans Memorial Auditorium\, 4117 Overland Avenue\, Culver City\, CA\, 90230
END:VEVENT
BEGIN:VEVENT
DTSTART;VALUE=DATE:20241218
DTEND;VALUE=DATE:20250107
DTSTAMP:20260424T101221
CREATED:20240823T235918Z
LAST-MODIFIED:20241211T004312Z
UID:60790-1734480000-1736207999@westsideyouthorchestra.org
SUMMARY:Spring Semester Auditions on Zoom
DESCRIPTION:
URL:https://westsideyouthorchestra.org/concerts/spring-semester-auditions-on-zoom/
END:VEVENT
END:VCALENDAR