BEGIN:VCALENDAR
VERSION:2.0
PRODID:-//Westside Youth Orchestra - ECPv6.15.20//NONSGML v1.0//EN
CALSCALE:GREGORIAN
METHOD:PUBLISH
X-ORIGINAL-URL:https://westsideyouthorchestra.org
X-WR-CALDESC:Events for Westside Youth Orchestra
REFRESH-INTERVAL;VALUE=DURATION:PT1H
X-Robots-Tag:noindex
X-PUBLISHED-TTL:PT1H
BEGIN:VTIMEZONE
TZID:UTC
BEGIN:STANDARD
TZOFFSETFROM:+0000
TZOFFSETTO:+0000
TZNAME:UTC
DTSTART:20240101T000000
END:STANDARD
END:VTIMEZONE
BEGIN:VEVENT
DTSTART;TZID=UTC:20250518T180000
DTEND;TZID=UTC:20250518T200000
DTSTAMP:20260424T033204
CREATED:20250225T211358Z
LAST-MODIFIED:20250410T182215Z
UID:61337-1747591200-1747598400@westsideyouthorchestra.org
SUMMARY:Spring Concert 2025
DESCRIPTION:Tickets: https://www.eventbrite.com/e/wyo-spring-concert-tickets-1254005607529?aff=oddtdtcreator
URL:https://westsideyouthorchestra.org/concerts/spring-concert-2025/
ATTACH;FMTTYPE=image/jpeg:https://westsideyouthorchestra.org/wp-content/uploads/2025/02/May-18-Concert-poster-with-QR-1.jpg
END:VEVENT
END:VCALENDAR