BEGIN:VCALENDAR
VERSION:2.0
PRODID:-//Westside Youth Orchestra - ECPv6.15.20//NONSGML v1.0//EN
CALSCALE:GREGORIAN
METHOD:PUBLISH
X-WR-CALNAME:Westside Youth Orchestra
X-ORIGINAL-URL:https://westsideyouthorchestra.org
X-WR-CALDESC:Events for Westside Youth Orchestra
REFRESH-INTERVAL;VALUE=DURATION:PT1H
X-Robots-Tag:noindex
X-PUBLISHED-TTL:PT1H
BEGIN:VTIMEZONE
TZID:UTC
BEGIN:STANDARD
TZOFFSETFROM:+0000
TZOFFSETTO:+0000
TZNAME:UTC
DTSTART:20250101T000000
END:STANDARD
END:VTIMEZONE
BEGIN:VEVENT
DTSTART;TZID=UTC:20260516T190000
DTEND;TZID=UTC:20260516T190000
DTSTAMP:20260423T145437
CREATED:20251222T180702Z
LAST-MODIFIED:20260404T010512Z
UID:62495-1778958000-1778958000@westsideyouthorchestra.org
SUMMARY:Spring Concert 2026
DESCRIPTION:
URL:https://westsideyouthorchestra.org/concerts/spring-concert-2026/
LOCATION:Veterans Memorial Auditorium\, 4117 Overland Avenue\, Culver City\, CA\, 90230
ATTACH;FMTTYPE=image/jpeg:https://westsideyouthorchestra.org/wp-content/uploads/2026/04/WYO.May-16-Concert-flyer-scaled.jpg
END:VEVENT
END:VCALENDAR