BEGIN:VCALENDAR
VERSION:2.0
PRODID:-//Westside Youth Orchestra - ECPv6.15.20//NONSGML v1.0//EN
CALSCALE:GREGORIAN
METHOD:PUBLISH
X-WR-CALNAME:Westside Youth Orchestra
X-ORIGINAL-URL:https://westsideyouthorchestra.org
X-WR-CALDESC:Events for Westside Youth Orchestra
REFRESH-INTERVAL;VALUE=DURATION:PT1H
X-Robots-Tag:noindex
X-PUBLISHED-TTL:PT1H
BEGIN:VTIMEZONE
TZID:UTC
BEGIN:STANDARD
TZOFFSETFROM:+0000
TZOFFSETTO:+0000
TZNAME:UTC
DTSTART:20250101T000000
END:STANDARD
END:VTIMEZONE
BEGIN:VEVENT
DTSTART;TZID=UTC:20261212T180000
DTEND;TZID=UTC:20261212T180000
DTSTAMP:20260423T224031
CREATED:20260327T034212Z
LAST-MODIFIED:20260404T010446Z
UID:62920-1797098400-1797098400@westsideyouthorchestra.org
SUMMARY:Winter Concert
DESCRIPTION:
URL:https://westsideyouthorchestra.org/concerts/winter-concert/
LOCATION:Veterans Memorial Auditorium\, 4117 Overland Avenue\, Culver City\, CA\, 90230
END:VEVENT
END:VCALENDAR